BEGIN:VCALENDAR
VERSION:2.0
PRODID:-//CASA for the Highland Lakes Area - ECPv6.15.20//NONSGML v1.0//EN
CALSCALE:GREGORIAN
METHOD:PUBLISH
X-ORIGINAL-URL:https://highlandlakescasa.org
X-WR-CALDESC:Events for CASA for the Highland Lakes Area
REFRESH-INTERVAL;VALUE=DURATION:PT1H
X-Robots-Tag:noindex
X-PUBLISHED-TTL:PT1H
BEGIN:VTIMEZONE
TZID:UTC
BEGIN:STANDARD
TZOFFSETFROM:+0000
TZOFFSETTO:+0000
TZNAME:UTC
DTSTART:20250101T000000
END:STANDARD
END:VTIMEZONE
BEGIN:VEVENT
DTSTART;TZID=UTC:20260311T093000
DTEND;TZID=UTC:20260311T110000
DTSTAMP:20260420T093740
CREATED:20260304T215412Z
LAST-MODIFIED:20260304T215648Z
UID:10000004-1773221400-1773226800@highlandlakescasa.org
SUMMARY:START YOUR MORNING WITH A COFFEE AND CONVSERSATION WITH CASA!
DESCRIPTION:Join CASA for a Pop-Up in Llano! \n\n\n\n What to expect: \n\n\n\n•Meet CASA staff & volunteers from your community•Hear real stories about advocating for local children•Learn what it means to be a Court Appointed Special Advocate (CASA)•Ask questions in a casual\, no-pressure setting \n\n\n\n When & Where March 11th MAVA JAVA\, Llano\, TX 9:30 AM \n\n\n\n RSVP today and join us for good conversation. Your presence could be the start of changing a child’s life.
URL:https://highlandlakescasa.org/event/starte-your-morning-with-a-coffee-and-convsersation-with-casa/
ATTACH;FMTTYPE=image/png:https://highlandlakescasa.org/wp-content/uploads/sites/28/2025/07/Test-Photo.png
END:VEVENT
BEGIN:VEVENT
DTSTART;TZID=UTC:20260319T170000
DTEND;TZID=UTC:20260319T190000
DTSTAMP:20260420T093740
CREATED:20260306T161212Z
LAST-MODIFIED:20260306T163245Z
UID:10000005-1773939600-1773946800@highlandlakescasa.org
SUMMARY:Hey\, Llano!
DESCRIPTION:CASA POP-UP EVENT AT THE BARREL HOUSE \n\n\n\nIf you’ve ever been curious about becoming a CASA volunteer\, this is a great opportunity to stop by\, grab something to drink\, and chat with us in a relaxed setting. \n\n\n\nWe are in need of volunteers — and kids in our community need a consistent\, caring adult in their lives. You can be that person.  \n\n\n\nCome ask questions\, learn more\, and see how you can make a difference.
URL:https://highlandlakescasa.org/event/hey-llano/
ATTACH;FMTTYPE=image/jpeg:https://highlandlakescasa.org/wp-content/uploads/sites/28/2026/03/iStock-1678749621-1-e1728071829173-834x1024-1.jpg
END:VEVENT
END:VCALENDAR