BEGIN:VCALENDAR
VERSION:2.0
PRODID:-//CASA for the Highland Lakes Area - ECPv6.15.20//NONSGML v1.0//EN
CALSCALE:GREGORIAN
METHOD:PUBLISH
X-ORIGINAL-URL:https://highlandlakescasa.org
X-WR-CALDESC:Events for CASA for the Highland Lakes Area
REFRESH-INTERVAL;VALUE=DURATION:PT1H
X-Robots-Tag:noindex
X-PUBLISHED-TTL:PT1H
BEGIN:VTIMEZONE
TZID:UTC
BEGIN:STANDARD
TZOFFSETFROM:+0000
TZOFFSETTO:+0000
TZNAME:UTC
DTSTART:20250101T000000
END:STANDARD
END:VTIMEZONE
BEGIN:VEVENT
DTSTART;TZID=UTC:20260207T180000
DTEND;TZID=UTC:20260207T220000
DTSTAMP:20260420T094028
CREATED:20260109T192028Z
LAST-MODIFIED:20260304T213625Z
UID:10000002-1770487200-1770501600@highlandlakescasa.org
SUMMARY:11th Annual Boots & BBQ
DESCRIPTION:Horseshoe Bay Resort – Granite Ballroom \n\n\n\n\n\n \n\n\n\nWhat a great time and great success! Thanks to all who sponsored\, attended and supported Boots & BBQ 2026! \n\n\n\nSEE YOU NEXT YEAR! \n\n\n\nThis signature event fuels the mission of CASA for the Highland Lakes Area\, ensuring that every child we serve has a trained volunteer advocate—someone who listens\, speaks up\, and stands beside them through life’s toughest challenges.Each year\, our Highland Lakes community comes together for one unforgettable evening—Boots & BBQ—to celebrate generosity\, good company\, and the power of giving back. We’re proud to share that Gage and Cade Construction will once again lead the way as our Presenting Sponsor for the 11th Annual Boots & BBQ\, happening Saturday\, February 7\, 2026\, at Horseshoe Bay Resort.
URL:https://highlandlakescasa.org/event/11th-annual-boots-bbq/
ATTACH;FMTTYPE=image/png:https://highlandlakescasa.org/wp-content/uploads/sites/28/2025/11/Save-the-date-w-presenting.png
END:VEVENT
END:VCALENDAR